BEGIN:VCALENDAR
VERSION:2.0
PRODID:-//Whiskey Dawgs - ECPv6.15.20//NONSGML v1.0//EN
CALSCALE:GREGORIAN
METHOD:PUBLISH
X-ORIGINAL-URL:https://whiskeydawgs.ca
X-WR-CALDESC:Events for Whiskey Dawgs
REFRESH-INTERVAL;VALUE=DURATION:PT1H
X-Robots-Tag:noindex
X-PUBLISHED-TTL:PT1H
BEGIN:VTIMEZONE
TZID:America/Toronto
BEGIN:DAYLIGHT
TZOFFSETFROM:-0500
TZOFFSETTO:-0400
TZNAME:EDT
DTSTART:20240310T070000
END:DAYLIGHT
BEGIN:STANDARD
TZOFFSETFROM:-0400
TZOFFSETTO:-0500
TZNAME:EST
DTSTART:20241103T060000
END:STANDARD
BEGIN:DAYLIGHT
TZOFFSETFROM:-0500
TZOFFSETTO:-0400
TZNAME:EDT
DTSTART:20250309T070000
END:DAYLIGHT
BEGIN:STANDARD
TZOFFSETFROM:-0400
TZOFFSETTO:-0500
TZNAME:EST
DTSTART:20251102T060000
END:STANDARD
BEGIN:DAYLIGHT
TZOFFSETFROM:-0500
TZOFFSETTO:-0400
TZNAME:EDT
DTSTART:20260308T070000
END:DAYLIGHT
BEGIN:STANDARD
TZOFFSETFROM:-0400
TZOFFSETTO:-0500
TZNAME:EST
DTSTART:20261101T060000
END:STANDARD
END:VTIMEZONE
BEGIN:VEVENT
DTSTART;TZID=America/Toronto:20251219T220000
DTEND;TZID=America/Toronto:20251220T020000
DTSTAMP:20260424T143914
CREATED:20251128T002926Z
LAST-MODIFIED:20251128T002926Z
UID:999-1766181600-1766196000@whiskeydawgs.ca
SUMMARY:Darren Hancock
DESCRIPTION:
URL:https://whiskeydawgs.ca/entertainment/darren-hancock-2/
ATTACH;FMTTYPE=image/png:https://whiskeydawgs.ca/wp-content/uploads/2025/09/THE-DARREN-HANCOCK-BAND.png
END:VEVENT
BEGIN:VEVENT
DTSTART;TZID=America/Toronto:20251213T220000
DTEND;TZID=America/Toronto:20251214T020000
DTSTAMP:20260424T143914
CREATED:20251128T002818Z
LAST-MODIFIED:20251128T002818Z
UID:996-1765663200-1765677600@whiskeydawgs.ca
SUMMARY:Andy Colonico
DESCRIPTION:
URL:https://whiskeydawgs.ca/entertainment/andy-colonico/
ATTACH;FMTTYPE=image/jpeg:https://whiskeydawgs.ca/wp-content/uploads/2025/11/ANDY-COLONICO-25.jpg
END:VEVENT
BEGIN:VEVENT
DTSTART;TZID=America/Toronto:20251212T220000
DTEND;TZID=America/Toronto:20251213T020000
DTSTAMP:20260424T143914
CREATED:20251127T232504Z
LAST-MODIFIED:20251127T232504Z
UID:994-1765576800-1765591200@whiskeydawgs.ca
SUMMARY:Paige Rutledge
DESCRIPTION:
URL:https://whiskeydawgs.ca/entertainment/paige-rutledge-3/
ATTACH;FMTTYPE=image/jpeg:https://whiskeydawgs.ca/wp-content/uploads/2025/09/PAIGE-RUTLEDGE-24.jpg
END:VEVENT
BEGIN:VEVENT
DTSTART;TZID=America/Toronto:20251206T220000
DTEND;TZID=America/Toronto:20251207T020000
DTSTAMP:20260424T143914
CREATED:20251127T232135Z
LAST-MODIFIED:20251127T232135Z
UID:991-1765058400-1765072800@whiskeydawgs.ca
SUMMARY:Peter Peres
DESCRIPTION:
URL:https://whiskeydawgs.ca/entertainment/peter-peres/
ATTACH;FMTTYPE=image/jpeg:https://whiskeydawgs.ca/wp-content/uploads/2025/11/PETER-PERES.jpg
END:VEVENT
BEGIN:VEVENT
DTSTART;TZID=America/Toronto:20251205T220000
DTEND;TZID=America/Toronto:20251206T020000
DTSTAMP:20260424T143914
CREATED:20251127T231951Z
LAST-MODIFIED:20251127T231951Z
UID:988-1764972000-1764986400@whiskeydawgs.ca
SUMMARY:Derek Lathrop
DESCRIPTION:
URL:https://whiskeydawgs.ca/entertainment/derek-lathrop/
ATTACH;FMTTYPE=image/jpeg:https://whiskeydawgs.ca/wp-content/uploads/2025/11/DEREK-LATHROP-THE-COUNTY.jpg
END:VEVENT
BEGIN:VEVENT
DTSTART;TZID=America/Toronto:20251129T220000
DTEND;TZID=America/Toronto:20251130T020000
DTSTAMP:20260424T143914
CREATED:20251007T172129Z
LAST-MODIFIED:20251007T172129Z
UID:965-1764453600-1764468000@whiskeydawgs.ca
SUMMARY:Dan Badger
DESCRIPTION:
URL:https://whiskeydawgs.ca/entertainment/dan-badger/
LOCATION:Whiskey Dawgs\, 55 ST. PAUL STREET\, ST.CATHARINES\, ON\, L2R3M2\, Canada
ATTACH;FMTTYPE=image/jpeg:https://whiskeydawgs.ca/wp-content/uploads/2025/10/Dan-Badger-25-scaled.jpg
ORGANIZER;CN="Whiskey Dawgs":MAILTO:info@whiskeydawgs.ca
END:VEVENT
BEGIN:VEVENT
DTSTART;TZID=America/Toronto:20251128T220000
DTEND;TZID=America/Toronto:20251129T020000
DTSTAMP:20260424T143914
CREATED:20251007T172032Z
LAST-MODIFIED:20251007T172032Z
UID:963-1764367200-1764381600@whiskeydawgs.ca
SUMMARY:Avenue Inn
DESCRIPTION:
URL:https://whiskeydawgs.ca/entertainment/avenue-inn-2/
LOCATION:Whiskey Dawgs\, 55 ST. PAUL STREET\, ST.CATHARINES\, ON\, L2R3M2\, Canada
ATTACH;FMTTYPE=image/jpeg:https://whiskeydawgs.ca/wp-content/uploads/2025/09/AVENUE-INN.jpg
ORGANIZER;CN="Whiskey Dawgs":MAILTO:info@whiskeydawgs.ca
END:VEVENT
BEGIN:VEVENT
DTSTART;TZID=America/Toronto:20251122T220000
DTEND;TZID=America/Toronto:20251123T020000
DTSTAMP:20260424T143914
CREATED:20251007T171938Z
LAST-MODIFIED:20251007T171938Z
UID:961-1763848800-1763863200@whiskeydawgs.ca
SUMMARY:Jason Mercer
DESCRIPTION:
URL:https://whiskeydawgs.ca/entertainment/jason-mercer/
LOCATION:Whiskey Dawgs\, 55 ST. PAUL STREET\, ST.CATHARINES\, ON\, L2R3M2\, Canada
ATTACH;FMTTYPE=image/jpeg:https://whiskeydawgs.ca/wp-content/uploads/2025/10/JASON-MERCER-24.jpg
ORGANIZER;CN="Whiskey Dawgs":MAILTO:info@whiskeydawgs.ca
END:VEVENT
BEGIN:VEVENT
DTSTART;TZID=America/Toronto:20251121T220000
DTEND;TZID=America/Toronto:20251122T020000
DTSTAMP:20260424T143914
CREATED:20251007T171801Z
LAST-MODIFIED:20251007T171801Z
UID:958-1763762400-1763776800@whiskeydawgs.ca
SUMMARY:Rudy Gunn
DESCRIPTION:
URL:https://whiskeydawgs.ca/entertainment/rudy-gunn-2/
LOCATION:Whiskey Dawgs\, 55 ST. PAUL STREET\, ST.CATHARINES\, ON\, L2R3M2\, Canada
ATTACH;FMTTYPE=image/webp:https://whiskeydawgs.ca/wp-content/uploads/2025/09/RUDY-GUNN-scaled.webp
ORGANIZER;CN="Whiskey Dawgs":MAILTO:info@whiskeydawgs.ca
END:VEVENT
BEGIN:VEVENT
DTSTART;TZID=America/Toronto:20251115T220000
DTEND;TZID=America/Toronto:20251116T020000
DTSTAMP:20260424T143914
CREATED:20251007T171653Z
LAST-MODIFIED:20251007T171845Z
UID:953-1763244000-1763258400@whiskeydawgs.ca
SUMMARY:Lucas Mason
DESCRIPTION:
URL:https://whiskeydawgs.ca/entertainment/lucas-mason/
LOCATION:Whiskey Dawgs\, 55 ST. PAUL STREET\, ST.CATHARINES\, ON\, L2R3M2\, Canada
ATTACH;FMTTYPE=image/jpeg:https://whiskeydawgs.ca/wp-content/uploads/2025/10/LUKE-MASON-24-scaled.jpg
ORGANIZER;CN="Whiskey Dawgs":MAILTO:info@whiskeydawgs.ca
END:VEVENT
BEGIN:VEVENT
DTSTART;TZID=America/Toronto:20251114T220000
DTEND;TZID=America/Toronto:20251115T020000
DTSTAMP:20260424T143914
CREATED:20251007T170846Z
LAST-MODIFIED:20251007T170846Z
UID:951-1763157600-1763172000@whiskeydawgs.ca
SUMMARY:Aldershot
DESCRIPTION:
URL:https://whiskeydawgs.ca/entertainment/aldershot-2/
LOCATION:Whiskey Dawgs\, 55 ST. PAUL STREET\, ST.CATHARINES\, ON\, L2R3M2\, Canada
ATTACH;FMTTYPE=image/webp:https://whiskeydawgs.ca/wp-content/uploads/2025/09/ALDERSHOT-2.webp
ORGANIZER;CN="Whiskey Dawgs":MAILTO:info@whiskeydawgs.ca
END:VEVENT
BEGIN:VEVENT
DTSTART;TZID=America/Toronto:20251108T220000
DTEND;TZID=America/Toronto:20251109T020000
DTSTAMP:20260424T143914
CREATED:20251007T170746Z
LAST-MODIFIED:20251007T170746Z
UID:949-1762639200-1762653600@whiskeydawgs.ca
SUMMARY:Paige Rutledge
DESCRIPTION:
URL:https://whiskeydawgs.ca/entertainment/paige-rutledge-2/
LOCATION:Whiskey Dawgs\, 55 ST. PAUL STREET\, ST.CATHARINES\, ON\, L2R3M2\, Canada
ATTACH;FMTTYPE=image/jpeg:https://whiskeydawgs.ca/wp-content/uploads/2025/09/PAIGE-RUTLEDGE-24.jpg
ORGANIZER;CN="Whiskey Dawgs":MAILTO:info@whiskeydawgs.ca
END:VEVENT
BEGIN:VEVENT
DTSTART;TZID=America/Toronto:20251107T220000
DTEND;TZID=America/Toronto:20251108T020000
DTSTAMP:20260424T143914
CREATED:20251007T170618Z
LAST-MODIFIED:20251007T170618Z
UID:947-1762552800-1762567200@whiskeydawgs.ca
SUMMARY:Gabe Grieve
DESCRIPTION:
URL:https://whiskeydawgs.ca/entertainment/gabe-grieve-2/
LOCATION:Whiskey Dawgs\, 55 ST. PAUL STREET\, ST.CATHARINES\, ON\, L2R3M2\, Canada
ATTACH;FMTTYPE=image/png:https://whiskeydawgs.ca/wp-content/uploads/2025/09/GABE-Pic-2-1-e1758569761846.png
ORGANIZER;CN="Whiskey Dawgs":MAILTO:info@whiskeydawgs.ca
END:VEVENT
BEGIN:VEVENT
DTSTART;TZID=America/Toronto:20251101T220000
DTEND;TZID=America/Toronto:20251102T020000
DTSTAMP:20260424T143914
CREATED:20251007T170254Z
LAST-MODIFIED:20251007T170254Z
UID:943-1762034400-1762048800@whiskeydawgs.ca
SUMMARY:Rob Fitzgerald
DESCRIPTION:
URL:https://whiskeydawgs.ca/entertainment/rob-fitzgerald/
LOCATION:Whiskey Dawgs\, 55 ST. PAUL STREET\, ST.CATHARINES\, ON\, L2R3M2\, Canada
ATTACH;FMTTYPE=image/jpeg:https://whiskeydawgs.ca/wp-content/uploads/2025/10/ROB-FITZGERALD-23.jpg
ORGANIZER;CN="Whiskey Dawgs":MAILTO:info@whiskeydawgs.ca
END:VEVENT
BEGIN:VEVENT
DTSTART;TZID=America/Toronto:20251031T220000
DTEND;TZID=America/Toronto:20251101T020000
DTSTAMP:20260424T143914
CREATED:20250922T192853Z
LAST-MODIFIED:20250929T195409Z
UID:928-1761948000-1761962400@whiskeydawgs.ca
SUMMARY:Brad James
DESCRIPTION:
URL:https://whiskeydawgs.ca/entertainment/amanda-keeles/
LOCATION:Whiskey Dawgs\, 55 ST. PAUL STREET\, ST.CATHARINES\, ON\, L2R3M2\, Canada
ATTACH;FMTTYPE=image/jpeg:https://whiskeydawgs.ca/wp-content/uploads/2025/09/BRAD-JAMES-25.jpg
END:VEVENT
BEGIN:VEVENT
DTSTART;TZID=America/Toronto:20251025T220000
DTEND;TZID=America/Toronto:20251026T020000
DTSTAMP:20260424T143914
CREATED:20250922T192740Z
LAST-MODIFIED:20250922T192740Z
UID:925-1761429600-1761444000@whiskeydawgs.ca
SUMMARY:Brad James
DESCRIPTION:
URL:https://whiskeydawgs.ca/entertainment/brad-james/
LOCATION:Whiskey Dawgs\, 55 ST. PAUL STREET\, ST.CATHARINES\, ON\, L2R3M2\, Canada
ATTACH;FMTTYPE=image/jpeg:https://whiskeydawgs.ca/wp-content/uploads/2025/09/BRAD-JAMES-25.jpg
END:VEVENT
BEGIN:VEVENT
DTSTART;TZID=America/Toronto:20251024T220000
DTEND;TZID=America/Toronto:20251025T020000
DTSTAMP:20260424T143914
CREATED:20250922T192622Z
LAST-MODIFIED:20250922T192622Z
UID:922-1761343200-1761357600@whiskeydawgs.ca
SUMMARY:4 Ounce Pour
DESCRIPTION:
URL:https://whiskeydawgs.ca/entertainment/4-ounce-pour/
LOCATION:Whiskey Dawgs\, 55 ST. PAUL STREET\, ST.CATHARINES\, ON\, L2R3M2\, Canada
ATTACH;FMTTYPE=image/jpeg:https://whiskeydawgs.ca/wp-content/uploads/2025/09/4.-OUNCE-POUR.jpg
END:VEVENT
BEGIN:VEVENT
DTSTART;TZID=America/Toronto:20251018T220000
DTEND;TZID=America/Toronto:20251019T020000
DTSTAMP:20260424T143914
CREATED:20250922T192503Z
LAST-MODIFIED:20250922T194146Z
UID:918-1760824800-1760839200@whiskeydawgs.ca
SUMMARY:Gabe Grieve
DESCRIPTION:
URL:https://whiskeydawgs.ca/entertainment/gabe-grieve/
LOCATION:Whiskey Dawgs\, 55 ST. PAUL STREET\, ST.CATHARINES\, ON\, L2R3M2\, Canada
ATTACH;FMTTYPE=image/png:https://whiskeydawgs.ca/wp-content/uploads/2025/09/GABE-Pic-2-1-e1758569761846.png
END:VEVENT
BEGIN:VEVENT
DTSTART;TZID=America/Toronto:20251017T220000
DTEND;TZID=America/Toronto:20251018T020000
DTSTAMP:20260424T143914
CREATED:20250922T191947Z
LAST-MODIFIED:20250922T191947Z
UID:915-1760738400-1760752800@whiskeydawgs.ca
SUMMARY:Darren Hancock
DESCRIPTION:
URL:https://whiskeydawgs.ca/entertainment/darren-hancock/
LOCATION:Whiskey Dawgs\, 55 ST. PAUL STREET\, ST.CATHARINES\, ON\, L2R3M2\, Canada
ATTACH;FMTTYPE=image/png:https://whiskeydawgs.ca/wp-content/uploads/2025/09/THE-DARREN-HANCOCK-BAND.png
END:VEVENT
BEGIN:VEVENT
DTSTART;TZID=America/Toronto:20251011T220000
DTEND;TZID=America/Toronto:20251012T020000
DTSTAMP:20260424T143914
CREATED:20250922T191746Z
LAST-MODIFIED:20250922T191746Z
UID:912-1760220000-1760234400@whiskeydawgs.ca
SUMMARY:Chase Heaslip
DESCRIPTION:
URL:https://whiskeydawgs.ca/entertainment/chase-heaslip/
LOCATION:Whiskey Dawgs\, 55 ST. PAUL STREET\, ST.CATHARINES\, ON\, L2R3M2\, Canada
ATTACH;FMTTYPE=image/jpeg:https://whiskeydawgs.ca/wp-content/uploads/2025/09/CHASE-HEASLIP-25.jpg
END:VEVENT
BEGIN:VEVENT
DTSTART;TZID=America/Toronto:20251010T220000
DTEND;TZID=America/Toronto:20251011T020000
DTSTAMP:20260424T143914
CREATED:20250922T191613Z
LAST-MODIFIED:20250922T191613Z
UID:909-1760133600-1760148000@whiskeydawgs.ca
SUMMARY:Avenue Inn
DESCRIPTION:
URL:https://whiskeydawgs.ca/entertainment/avenue-inn/
LOCATION:Whiskey Dawgs\, 55 ST. PAUL STREET\, ST.CATHARINES\, ON\, L2R3M2\, Canada
ATTACH;FMTTYPE=image/jpeg:https://whiskeydawgs.ca/wp-content/uploads/2025/09/AVENUE-INN.jpg
END:VEVENT
BEGIN:VEVENT
DTSTART;TZID=America/Toronto:20251004T220000
DTEND;TZID=America/Toronto:20251005T020000
DTSTAMP:20260424T143914
CREATED:20250922T191430Z
LAST-MODIFIED:20250922T191430Z
UID:906-1759615200-1759629600@whiskeydawgs.ca
SUMMARY:Rudy Gunn
DESCRIPTION:
URL:https://whiskeydawgs.ca/entertainment/rudy-gunn/
LOCATION:Whiskey Dawgs\, 55 ST. PAUL STREET\, ST.CATHARINES\, ON\, L2R3M2\, Canada
ATTACH;FMTTYPE=image/webp:https://whiskeydawgs.ca/wp-content/uploads/2025/09/RUDY-GUNN-scaled.webp
END:VEVENT
BEGIN:VEVENT
DTSTART;TZID=America/Toronto:20251003T220000
DTEND;TZID=America/Toronto:20251004T020000
DTSTAMP:20260424T143914
CREATED:20250922T191149Z
LAST-MODIFIED:20250922T191149Z
UID:903-1759528800-1759543200@whiskeydawgs.ca
SUMMARY:The Country Junkies
DESCRIPTION:
URL:https://whiskeydawgs.ca/entertainment/the-country-junkies/
LOCATION:Whiskey Dawgs\, 55 ST. PAUL STREET\, ST.CATHARINES\, ON\, L2R3M2\, Canada
ATTACH;FMTTYPE=image/webp:https://whiskeydawgs.ca/wp-content/uploads/2025/09/THE-COUNTRY-JUNKIES-.webp
END:VEVENT
BEGIN:VEVENT
DTSTART;TZID=America/Toronto:20251002T190000
DTEND;TZID=America/Toronto:20251003T020000
DTSTAMP:20260424T143914
CREATED:20250929T160425Z
LAST-MODIFIED:20250929T163531Z
UID:934-1759431600-1759456800@whiskeydawgs.ca
SUMMARY:Bryan Adams After Party
DESCRIPTION:
URL:https://whiskeydawgs.ca/entertainment/bryan-adams-after-party/
END:VEVENT
BEGIN:VEVENT
DTSTART;TZID=America/Toronto:20250927T220000
DTEND;TZID=America/Toronto:20250928T020000
DTSTAMP:20260424T143914
CREATED:20250922T193204Z
LAST-MODIFIED:20250922T193204Z
UID:931-1759010400-1759024800@whiskeydawgs.ca
SUMMARY:Paige Rutledge
DESCRIPTION:
URL:https://whiskeydawgs.ca/entertainment/paige-rutledge/
LOCATION:Whiskey Dawgs\, 55 ST. PAUL STREET\, ST.CATHARINES\, ON\, L2R3M2\, Canada
ATTACH;FMTTYPE=image/jpeg:https://whiskeydawgs.ca/wp-content/uploads/2025/09/PAIGE-RUTLEDGE-24.jpg
END:VEVENT
BEGIN:VEVENT
DTSTART;TZID=America/Toronto:20250927T130000
DTEND;TZID=America/Toronto:20250927T170000
DTSTAMP:20260424T143914
CREATED:20250917T173656Z
LAST-MODIFIED:20250917T190221Z
UID:851-1758978000-1758992400@whiskeydawgs.ca
SUMMARY:BASIL BAUER
DESCRIPTION:
URL:https://whiskeydawgs.ca/entertainment/basil-bauer/
ATTACH;FMTTYPE=image/jpeg:https://whiskeydawgs.ca/wp-content/uploads/2025/09/BASIL-BAUER-24.jpg
END:VEVENT
BEGIN:VEVENT
DTSTART;TZID=America/Toronto:20250926T220000
DTEND;TZID=America/Toronto:20250927T020000
DTSTAMP:20260424T143914
CREATED:20250917T174314Z
LAST-MODIFIED:20250917T185719Z
UID:854-1758924000-1758938400@whiskeydawgs.ca
SUMMARY:ALDERSHOT
DESCRIPTION:
URL:https://whiskeydawgs.ca/entertainment/aldershot/
ATTACH;FMTTYPE=image/webp:https://whiskeydawgs.ca/wp-content/uploads/2025/09/ALDERSHOT-2.webp
END:VEVENT
BEGIN:VEVENT
DTSTART;TZID=America/Toronto:20250925T190000
DTEND;TZID=America/Toronto:20250926T020000
DTSTAMP:20260424T143914
CREATED:20250917T175551Z
LAST-MODIFIED:20250917T184437Z
UID:856-1758826800-1758852000@whiskeydawgs.ca
SUMMARY:Dj and Karaoke
DESCRIPTION:Live Dj from 7pm-9pm. \nKaraoke 9pm – 1am \nLive Dj 1am-2am
URL:https://whiskeydawgs.ca/entertainment/dj-and-karaoke/
ATTACH;FMTTYPE=image/webp:https://whiskeydawgs.ca/wp-content/uploads/2025/09/whiskeydawgs25.webp
ORGANIZER;CN="Whiskey Dawgs":MAILTO:info@whiskeydawgs.ca
END:VEVENT
BEGIN:VEVENT
DTSTART;TZID=America/Toronto:20250816T200000
DTEND;TZID=America/Toronto:20250817T010000
DTSTAMP:20260424T143914
CREATED:20250814T143505Z
LAST-MODIFIED:20250826T155637Z
UID:434-1755374400-1755392400@whiskeydawgs.ca
SUMMARY:Test Event 3
DESCRIPTION:
URL:https://whiskeydawgs.ca/entertainment/test-event-3/
LOCATION:Whiskey Dawgs\, 55 ST. PAUL STREET\, ST.CATHARINES\, ON\, L2R3M2\, Canada
CATEGORIES:Whiskey Dawgs
END:VEVENT
BEGIN:VEVENT
DTSTART;TZID=America/Toronto:20250815T200000
DTEND;TZID=America/Toronto:20250816T010000
DTSTAMP:20260424T143914
CREATED:20250814T143202Z
LAST-MODIFIED:20250814T143202Z
UID:431-1755288000-1755306000@whiskeydawgs.ca
SUMMARY:Test Event 2
DESCRIPTION:
URL:https://whiskeydawgs.ca/entertainment/test-event-2/
LOCATION:Whiskey Dawgs\, 55 ST. PAUL STREET\, ST.CATHARINES\, ON\, L2R3M2\, Canada
CATEGORIES:Whiskey Dawgs
END:VEVENT
END:VCALENDAR