BEGIN:VCALENDAR
VERSION:2.0
PRODID:-//Whiskey Dawgs - ECPv6.15.20//NONSGML v1.0//EN
CALSCALE:GREGORIAN
METHOD:PUBLISH
X-WR-CALNAME:Whiskey Dawgs
X-ORIGINAL-URL:https://whiskeydawgs.ca
X-WR-CALDESC:Events for Whiskey Dawgs
REFRESH-INTERVAL;VALUE=DURATION:PT1H
X-Robots-Tag:noindex
X-PUBLISHED-TTL:PT1H
BEGIN:VTIMEZONE
TZID:America/Toronto
BEGIN:DAYLIGHT
TZOFFSETFROM:-0500
TZOFFSETTO:-0400
TZNAME:EDT
DTSTART:20250309T070000
END:DAYLIGHT
BEGIN:STANDARD
TZOFFSETFROM:-0400
TZOFFSETTO:-0500
TZNAME:EST
DTSTART:20251102T060000
END:STANDARD
BEGIN:DAYLIGHT
TZOFFSETFROM:-0500
TZOFFSETTO:-0400
TZNAME:EDT
DTSTART:20260308T070000
END:DAYLIGHT
BEGIN:STANDARD
TZOFFSETFROM:-0400
TZOFFSETTO:-0500
TZNAME:EST
DTSTART:20261101T060000
END:STANDARD
BEGIN:DAYLIGHT
TZOFFSETFROM:-0500
TZOFFSETTO:-0400
TZNAME:EDT
DTSTART:20270314T070000
END:DAYLIGHT
BEGIN:STANDARD
TZOFFSETFROM:-0400
TZOFFSETTO:-0500
TZNAME:EST
DTSTART:20271107T060000
END:STANDARD
END:VTIMEZONE
BEGIN:VEVENT
DTSTART;TZID=America/Toronto:20260418T220000
DTEND;TZID=America/Toronto:20260419T020000
DTSTAMP:20260424T110137
CREATED:20260324T210830Z
LAST-MODIFIED:20260324T210830Z
UID:1089-1776549600-1776564000@whiskeydawgs.ca
SUMMARY:Brad James
DESCRIPTION:
URL:https://whiskeydawgs.ca/entertainment/brad-james-6/
ATTACH;FMTTYPE=image/jpeg:https://whiskeydawgs.ca/wp-content/uploads/2025/09/BRAD-JAMES-25.jpg
END:VEVENT
BEGIN:VEVENT
DTSTART;TZID=America/Toronto:20260418T140000
DTEND;TZID=America/Toronto:20260418T190000
DTSTAMP:20260424T110137
CREATED:20260324T211249Z
LAST-MODIFIED:20260324T211249Z
UID:1095-1776520800-1776538800@whiskeydawgs.ca
SUMMARY:The Ultimate Day Party
DESCRIPTION:Jonesy & the Figure Four
URL:https://whiskeydawgs.ca/entertainment/the-ultimate-day-party/
ATTACH;FMTTYPE=image/png:https://whiskeydawgs.ca/wp-content/uploads/2026/03/D61AD2BB-5A93-4B99-BD52-99ADDAEC3D92-1.png
END:VEVENT
BEGIN:VEVENT
DTSTART;TZID=America/Toronto:20260417T220000
DTEND;TZID=America/Toronto:20260418T020000
DTSTAMP:20260424T110137
CREATED:20260324T210717Z
LAST-MODIFIED:20260324T210717Z
UID:1087-1776463200-1776477600@whiskeydawgs.ca
SUMMARY:Avenue Inn
DESCRIPTION:
URL:https://whiskeydawgs.ca/entertainment/avenue-inn-3/
ATTACH;FMTTYPE=image/jpeg:https://whiskeydawgs.ca/wp-content/uploads/2025/09/AVENUE-INN.jpg
END:VEVENT
BEGIN:VEVENT
DTSTART;TZID=America/Toronto:20260411T220000
DTEND;TZID=America/Toronto:20260412T020000
DTSTAMP:20260424T110137
CREATED:20260324T210604Z
LAST-MODIFIED:20260324T210604Z
UID:1085-1775944800-1775959200@whiskeydawgs.ca
SUMMARY:Paige Rutledge
DESCRIPTION:
URL:https://whiskeydawgs.ca/entertainment/paige-rutledge-4/
ATTACH;FMTTYPE=image/jpeg:https://whiskeydawgs.ca/wp-content/uploads/2025/09/PAIGE-RUTLEDGE-24.jpg
END:VEVENT
BEGIN:VEVENT
DTSTART;TZID=America/Toronto:20260410T220000
DTEND;TZID=America/Toronto:20260411T020000
DTSTAMP:20260424T110137
CREATED:20260324T210500Z
LAST-MODIFIED:20260324T210500Z
UID:1083-1775858400-1775872800@whiskeydawgs.ca
SUMMARY:Colt McLauchlin
DESCRIPTION:
URL:https://whiskeydawgs.ca/entertainment/colt-mclauchlin-2/
ATTACH;FMTTYPE=image/jpeg:https://whiskeydawgs.ca/wp-content/uploads/2026/02/IMG_4541.jpg
END:VEVENT
BEGIN:VEVENT
DTSTART;TZID=America/Toronto:20260404T220000
DTEND;TZID=America/Toronto:20260405T020000
DTSTAMP:20260424T110137
CREATED:20260324T210358Z
LAST-MODIFIED:20260324T210358Z
UID:1081-1775340000-1775354400@whiskeydawgs.ca
SUMMARY:Gabe Grieve
DESCRIPTION:
URL:https://whiskeydawgs.ca/entertainment/gabe-grieve-4/
ATTACH;FMTTYPE=image/png:https://whiskeydawgs.ca/wp-content/uploads/2025/09/GABE-Pic-2-1-e1758569761846.png
END:VEVENT
BEGIN:VEVENT
DTSTART;TZID=America/Toronto:20260403T220000
DTEND;TZID=America/Toronto:20260404T020000
DTSTAMP:20260424T110137
CREATED:20260324T210202Z
LAST-MODIFIED:20260324T210202Z
UID:1079-1775253600-1775268000@whiskeydawgs.ca
SUMMARY:Rob Watts
DESCRIPTION:
URL:https://whiskeydawgs.ca/entertainment/rob-watts-3/
ATTACH;FMTTYPE=image/jpeg:https://whiskeydawgs.ca/wp-content/uploads/2026/02/ROB-WATTS-BAND-24.jpg
END:VEVENT
BEGIN:VEVENT
DTSTART;TZID=America/Toronto:20260328T220000
DTEND;TZID=America/Toronto:20260329T020000
DTSTAMP:20260424T110137
CREATED:20260224T173758Z
LAST-MODIFIED:20260224T173758Z
UID:1076-1774735200-1774749600@whiskeydawgs.ca
SUMMARY:Kim Kay
DESCRIPTION:
URL:https://whiskeydawgs.ca/entertainment/kim-kay-2/
ATTACH;FMTTYPE=image/jpeg:https://whiskeydawgs.ca/wp-content/uploads/2025/12/Screen-Shot-2025-12-19-at-9.46.51-AM.jpeg
END:VEVENT
BEGIN:VEVENT
DTSTART;TZID=America/Toronto:20260327T220000
DTEND;TZID=America/Toronto:20260328T020000
DTSTAMP:20260424T110137
CREATED:20260224T173640Z
LAST-MODIFIED:20260224T173640Z
UID:1074-1774648800-1774663200@whiskeydawgs.ca
SUMMARY:Aldershot
DESCRIPTION:
URL:https://whiskeydawgs.ca/entertainment/aldershot-3/
ATTACH;FMTTYPE=image/webp:https://whiskeydawgs.ca/wp-content/uploads/2025/09/ALDERSHOT-2.webp
END:VEVENT
BEGIN:VEVENT
DTSTART;TZID=America/Toronto:20260321T220000
DTEND;TZID=America/Toronto:20260322T020000
DTSTAMP:20260424T110137
CREATED:20260224T173542Z
LAST-MODIFIED:20260224T173542Z
UID:1071-1774130400-1774144800@whiskeydawgs.ca
SUMMARY:Braden Simon
DESCRIPTION:
URL:https://whiskeydawgs.ca/entertainment/braden-simon/
ATTACH;FMTTYPE=image/jpeg:https://whiskeydawgs.ca/wp-content/uploads/2026/02/Braden-Simon.jpeg
END:VEVENT
BEGIN:VEVENT
DTSTART;TZID=America/Toronto:20260320T220000
DTEND;TZID=America/Toronto:20260321T020000
DTSTAMP:20260424T110137
CREATED:20260224T173104Z
LAST-MODIFIED:20260224T173104Z
UID:1069-1774044000-1774058400@whiskeydawgs.ca
SUMMARY:Rudy Gunn
DESCRIPTION:
URL:https://whiskeydawgs.ca/entertainment/rudy-gunn-4/
ATTACH;FMTTYPE=image/webp:https://whiskeydawgs.ca/wp-content/uploads/2025/09/RUDY-GUNN-scaled.webp
END:VEVENT
BEGIN:VEVENT
DTSTART;TZID=America/Toronto:20260314T220000
DTEND;TZID=America/Toronto:20260315T020000
DTSTAMP:20260424T110137
CREATED:20260224T172948Z
LAST-MODIFIED:20260224T172948Z
UID:1067-1773525600-1773540000@whiskeydawgs.ca
SUMMARY:Gabe Grieve
DESCRIPTION:
URL:https://whiskeydawgs.ca/entertainment/gabe-grieve-3/
ATTACH;FMTTYPE=image/png:https://whiskeydawgs.ca/wp-content/uploads/2025/09/GABE-Pic-2-1-e1758569761846.png
END:VEVENT
BEGIN:VEVENT
DTSTART;TZID=America/Toronto:20260313T220000
DTEND;TZID=America/Toronto:20260314T020000
DTSTAMP:20260424T110137
CREATED:20260224T172845Z
LAST-MODIFIED:20260224T172845Z
UID:1064-1773439200-1773453600@whiskeydawgs.ca
SUMMARY:8 Second Ride
DESCRIPTION:
URL:https://whiskeydawgs.ca/entertainment/8-second-ride/
ATTACH;FMTTYPE=image/jpeg:https://whiskeydawgs.ca/wp-content/uploads/2026/02/8-SECOND-RIDE-2022.jpg
END:VEVENT
BEGIN:VEVENT
DTSTART;TZID=America/Toronto:20260307T220000
DTEND;TZID=America/Toronto:20260308T020000
DTSTAMP:20260424T110137
CREATED:20260224T172611Z
LAST-MODIFIED:20260224T173949Z
UID:1062-1772920800-1772935200@whiskeydawgs.ca
SUMMARY:Brad James
DESCRIPTION:
URL:https://whiskeydawgs.ca/entertainment/brad-james-5/
ATTACH;FMTTYPE=image/jpeg:https://whiskeydawgs.ca/wp-content/uploads/2025/09/BRAD-JAMES-25.jpg
END:VEVENT
BEGIN:VEVENT
DTSTART;TZID=America/Toronto:20260306T220000
DTEND;TZID=America/Toronto:20260307T020000
DTSTAMP:20260424T110137
CREATED:20260224T172417Z
LAST-MODIFIED:20260224T172417Z
UID:1060-1772834400-1772848800@whiskeydawgs.ca
SUMMARY:Rob Watts
DESCRIPTION:
URL:https://whiskeydawgs.ca/entertainment/rob-watts-2/
ATTACH;FMTTYPE=image/jpeg:https://whiskeydawgs.ca/wp-content/uploads/2026/02/ROB-WATTS-BAND-24.jpg
END:VEVENT
BEGIN:VEVENT
DTSTART;TZID=America/Toronto:20260228T220000
DTEND;TZID=America/Toronto:20260301T020000
DTSTAMP:20260424T110137
CREATED:20260201T155816Z
LAST-MODIFIED:20260201T155939Z
UID:1054-1772316000-1772330400@whiskeydawgs.ca
SUMMARY:Lucas Mason
DESCRIPTION:
URL:https://whiskeydawgs.ca/entertainment/lucas-mason-2/
ATTACH;FMTTYPE=image/jpeg:https://whiskeydawgs.ca/wp-content/uploads/2026/02/LUKE-MASON-24-1-scaled.jpg
END:VEVENT
BEGIN:VEVENT
DTSTART;TZID=America/Toronto:20260227T220000
DTEND;TZID=America/Toronto:20260228T020000
DTSTAMP:20260424T110137
CREATED:20260201T155540Z
LAST-MODIFIED:20260201T155540Z
UID:1052-1772229600-1772244000@whiskeydawgs.ca
SUMMARY:Darren Hancock
DESCRIPTION:
URL:https://whiskeydawgs.ca/entertainment/darren-hancock-3/
ATTACH;FMTTYPE=image/png:https://whiskeydawgs.ca/wp-content/uploads/2025/09/THE-DARREN-HANCOCK-BAND.png
END:VEVENT
BEGIN:VEVENT
DTSTART;TZID=America/Toronto:20260221T220000
DTEND;TZID=America/Toronto:20260222T020000
DTSTAMP:20260424T110137
CREATED:20260201T155443Z
LAST-MODIFIED:20260201T155443Z
UID:1049-1771711200-1771725600@whiskeydawgs.ca
SUMMARY:Daybreak Moonshine
DESCRIPTION:
URL:https://whiskeydawgs.ca/entertainment/daybreak-moonshine/
ATTACH;FMTTYPE=image/jpeg:https://whiskeydawgs.ca/wp-content/uploads/2026/02/DAYBREAK-MOONSHINE-23.jpg
END:VEVENT
BEGIN:VEVENT
DTSTART;TZID=America/Toronto:20260220T220000
DTEND;TZID=America/Toronto:20260221T020000
DTSTAMP:20260424T110137
CREATED:20260201T155302Z
LAST-MODIFIED:20260201T155302Z
UID:1047-1771624800-1771639200@whiskeydawgs.ca
SUMMARY:Brad James
DESCRIPTION:
URL:https://whiskeydawgs.ca/entertainment/brad-james-4/
ATTACH;FMTTYPE=image/jpeg:https://whiskeydawgs.ca/wp-content/uploads/2025/09/BRAD-JAMES-25.jpg
END:VEVENT
BEGIN:VEVENT
DTSTART;TZID=America/Toronto:20260214T220000
DTEND;TZID=America/Toronto:20260215T020000
DTSTAMP:20260424T110137
CREATED:20260201T155110Z
LAST-MODIFIED:20260201T155110Z
UID:1044-1771106400-1771120800@whiskeydawgs.ca
SUMMARY:Angelica Appelman
DESCRIPTION:
URL:https://whiskeydawgs.ca/entertainment/angelica-appelman/
ATTACH;FMTTYPE=image/jpeg:https://whiskeydawgs.ca/wp-content/uploads/2026/02/ANGELICA-APPLEMAN.jpg
END:VEVENT
BEGIN:VEVENT
DTSTART;TZID=America/Toronto:20260213T220000
DTEND;TZID=America/Toronto:20260214T020000
DTSTAMP:20260424T110137
CREATED:20260201T154939Z
LAST-MODIFIED:20260201T154939Z
UID:1041-1771020000-1771034400@whiskeydawgs.ca
SUMMARY:Rob Watts
DESCRIPTION:
URL:https://whiskeydawgs.ca/entertainment/rob-watts/
ATTACH;FMTTYPE=image/jpeg:https://whiskeydawgs.ca/wp-content/uploads/2026/02/ROB-WATTS-BAND-24.jpg
END:VEVENT
BEGIN:VEVENT
DTSTART;TZID=America/Toronto:20260207T220000
DTEND;TZID=America/Toronto:20260208T020000
DTSTAMP:20260424T110137
CREATED:20260201T154732Z
LAST-MODIFIED:20260201T154732Z
UID:1039-1770501600-1770516000@whiskeydawgs.ca
SUMMARY:Rudy Gunn
DESCRIPTION:
URL:https://whiskeydawgs.ca/entertainment/rudy-gunn-3/
ATTACH;FMTTYPE=image/webp:https://whiskeydawgs.ca/wp-content/uploads/2025/09/RUDY-GUNN-scaled.webp
END:VEVENT
BEGIN:VEVENT
DTSTART;TZID=America/Toronto:20260206T220000
DTEND;TZID=America/Toronto:20260207T020000
DTSTAMP:20260424T110137
CREATED:20260201T154643Z
LAST-MODIFIED:20260201T154643Z
UID:1036-1770415200-1770429600@whiskeydawgs.ca
SUMMARY:Colt McLauchlin
DESCRIPTION:
URL:https://whiskeydawgs.ca/entertainment/colt-mclauchlin/
ATTACH;FMTTYPE=image/jpeg:https://whiskeydawgs.ca/wp-content/uploads/2026/02/IMG_4541.jpg
END:VEVENT
BEGIN:VEVENT
DTSTART;TZID=America/Toronto:20260131T220000
DTEND;TZID=America/Toronto:20260201T020000
DTSTAMP:20260424T110137
CREATED:20251219T030919Z
LAST-MODIFIED:20251219T030919Z
UID:1032-1769896800-1769911200@whiskeydawgs.ca
SUMMARY:Basil Bauer
DESCRIPTION:
URL:https://whiskeydawgs.ca/entertainment/basil-bauer-2/
ATTACH;FMTTYPE=image/jpeg:https://whiskeydawgs.ca/wp-content/uploads/2025/09/BASIL-BAUER-24.jpg
END:VEVENT
BEGIN:VEVENT
DTSTART;TZID=America/Toronto:20260130T220000
DTEND;TZID=America/Toronto:20260131T020000
DTSTAMP:20260424T110137
CREATED:20251219T030817Z
LAST-MODIFIED:20251219T030817Z
UID:1030-1769810400-1769824800@whiskeydawgs.ca
SUMMARY:Derek Lathrop
DESCRIPTION:
URL:https://whiskeydawgs.ca/entertainment/derek-lathrop-2/
ATTACH;FMTTYPE=image/jpeg:https://whiskeydawgs.ca/wp-content/uploads/2025/11/DEREK-LATHROP-THE-COUNTY.jpg
END:VEVENT
BEGIN:VEVENT
DTSTART;TZID=America/Toronto:20260124T220000
DTEND;TZID=America/Toronto:20260125T020000
DTSTAMP:20260424T110137
CREATED:20251219T030555Z
LAST-MODIFIED:20251219T030555Z
UID:1028-1769292000-1769306400@whiskeydawgs.ca
SUMMARY:Rob Fitzgerald
DESCRIPTION:
URL:https://whiskeydawgs.ca/entertainment/rob-fitzgerald-3/
ATTACH;FMTTYPE=image/jpeg:https://whiskeydawgs.ca/wp-content/uploads/2025/10/ROB-FITZGERALD-23.jpg
END:VEVENT
BEGIN:VEVENT
DTSTART;TZID=America/Toronto:20260123T220000
DTEND;TZID=America/Toronto:20260124T020000
DTSTAMP:20260424T110137
CREATED:20251219T030427Z
LAST-MODIFIED:20251219T031530Z
UID:1025-1769205600-1769220000@whiskeydawgs.ca
SUMMARY:Charlie Weston
DESCRIPTION:
URL:https://whiskeydawgs.ca/entertainment/charlie-weston/
ATTACH;FMTTYPE=image/png:https://whiskeydawgs.ca/wp-content/uploads/2025/12/1.14.png
END:VEVENT
BEGIN:VEVENT
DTSTART;TZID=America/Toronto:20260117T220000
DTEND;TZID=America/Toronto:20260118T020000
DTSTAMP:20260424T110137
CREATED:20251219T030108Z
LAST-MODIFIED:20251219T030108Z
UID:1022-1768687200-1768701600@whiskeydawgs.ca
SUMMARY:Max Smith
DESCRIPTION:
URL:https://whiskeydawgs.ca/entertainment/max-smith/
ATTACH;FMTTYPE=image/jpeg:https://whiskeydawgs.ca/wp-content/uploads/2025/12/IMG_3254-scaled.jpeg
END:VEVENT
BEGIN:VEVENT
DTSTART;TZID=America/Toronto:20260110T220000
DTEND;TZID=America/Toronto:20260111T020000
DTSTAMP:20260424T110137
CREATED:20251219T025539Z
LAST-MODIFIED:20251219T211523Z
UID:1017-1768082400-1768096800@whiskeydawgs.ca
SUMMARY:Kim Kay
DESCRIPTION:
URL:https://whiskeydawgs.ca/entertainment/kim-kay/
ATTACH;FMTTYPE=image/jpeg:https://whiskeydawgs.ca/wp-content/uploads/2025/12/Screen-Shot-2025-12-19-at-9.46.51-AM.jpeg
END:VEVENT
BEGIN:VEVENT
DTSTART;TZID=America/Toronto:20260109T220000
DTEND;TZID=America/Toronto:20260110T020000
DTSTAMP:20260424T110137
CREATED:20251219T025144Z
LAST-MODIFIED:20251219T025144Z
UID:1015-1767996000-1768010400@whiskeydawgs.ca
SUMMARY:Brad James
DESCRIPTION:
URL:https://whiskeydawgs.ca/entertainment/brad-james-3/
ATTACH;FMTTYPE=image/jpeg:https://whiskeydawgs.ca/wp-content/uploads/2025/09/BRAD-JAMES-25.jpg
END:VEVENT
END:VCALENDAR