BEGIN:VCALENDAR
VERSION:2.0
PRODID:-//Whiskey Dawgs - ECPv6.15.20//NONSGML v1.0//EN
CALSCALE:GREGORIAN
METHOD:PUBLISH
X-WR-CALNAME:Whiskey Dawgs
X-ORIGINAL-URL:https://whiskeydawgs.ca
X-WR-CALDESC:Events for Whiskey Dawgs
REFRESH-INTERVAL;VALUE=DURATION:PT1H
X-Robots-Tag:noindex
X-PUBLISHED-TTL:PT1H
BEGIN:VTIMEZONE
TZID:America/Toronto
BEGIN:DAYLIGHT
TZOFFSETFROM:-0500
TZOFFSETTO:-0400
TZNAME:EDT
DTSTART:20250309T070000
END:DAYLIGHT
BEGIN:STANDARD
TZOFFSETFROM:-0400
TZOFFSETTO:-0500
TZNAME:EST
DTSTART:20251102T060000
END:STANDARD
BEGIN:DAYLIGHT
TZOFFSETFROM:-0500
TZOFFSETTO:-0400
TZNAME:EDT
DTSTART:20260308T070000
END:DAYLIGHT
BEGIN:STANDARD
TZOFFSETFROM:-0400
TZOFFSETTO:-0500
TZNAME:EST
DTSTART:20261101T060000
END:STANDARD
BEGIN:DAYLIGHT
TZOFFSETFROM:-0500
TZOFFSETTO:-0400
TZNAME:EDT
DTSTART:20270314T070000
END:DAYLIGHT
BEGIN:STANDARD
TZOFFSETFROM:-0400
TZOFFSETTO:-0500
TZNAME:EST
DTSTART:20271107T060000
END:STANDARD
END:VTIMEZONE
BEGIN:VEVENT
DTSTART;TZID=America/Toronto:20260424T220000
DTEND;TZID=America/Toronto:20260425T020000
DTSTAMP:20260424T093727
CREATED:20260324T210929Z
LAST-MODIFIED:20260324T210929Z
UID:1091-1777068000-1777082400@whiskeydawgs.ca
SUMMARY:Kim Kay
DESCRIPTION:
URL:https://whiskeydawgs.ca/entertainment/kim-kay-3/
ATTACH;FMTTYPE=image/jpeg:https://whiskeydawgs.ca/wp-content/uploads/2025/12/Screen-Shot-2025-12-19-at-9.46.51-AM.jpeg
END:VEVENT
BEGIN:VEVENT
DTSTART;TZID=America/Toronto:20260425T220000
DTEND;TZID=America/Toronto:20260426T020000
DTSTAMP:20260424T093727
CREATED:20260324T211037Z
LAST-MODIFIED:20260324T211037Z
UID:1093-1777154400-1777168800@whiskeydawgs.ca
SUMMARY:Chase Heaslip
DESCRIPTION:
URL:https://whiskeydawgs.ca/entertainment/chase-heaslip-2/
ATTACH;FMTTYPE=image/jpeg:https://whiskeydawgs.ca/wp-content/uploads/2025/09/CHASE-HEASLIP-25.jpg
END:VEVENT
END:VCALENDAR